BEGIN:VCALENDAR
VERSION:2.0
PRODID:-//Keep Homestead Museum - ECPv6.15.20//NONSGML v1.0//EN
CALSCALE:GREGORIAN
METHOD:PUBLISH
X-WR-CALNAME:Keep Homestead Museum
X-ORIGINAL-URL:https://keephomesteadmuseum.org
X-WR-CALDESC:Events for Keep Homestead Museum
REFRESH-INTERVAL;VALUE=DURATION:PT1H
X-Robots-Tag:noindex
X-PUBLISHED-TTL:PT1H
BEGIN:VTIMEZONE
TZID:America/New_York
BEGIN:DAYLIGHT
TZOFFSETFROM:-0500
TZOFFSETTO:-0400
TZNAME:EDT
DTSTART:20210314T070000
END:DAYLIGHT
BEGIN:STANDARD
TZOFFSETFROM:-0400
TZOFFSETTO:-0500
TZNAME:EST
DTSTART:20211107T060000
END:STANDARD
BEGIN:DAYLIGHT
TZOFFSETFROM:-0500
TZOFFSETTO:-0400
TZNAME:EDT
DTSTART:20220313T070000
END:DAYLIGHT
BEGIN:STANDARD
TZOFFSETFROM:-0400
TZOFFSETTO:-0500
TZNAME:EST
DTSTART:20221106T060000
END:STANDARD
BEGIN:DAYLIGHT
TZOFFSETFROM:-0500
TZOFFSETTO:-0400
TZNAME:EDT
DTSTART:20230312T070000
END:DAYLIGHT
BEGIN:STANDARD
TZOFFSETFROM:-0400
TZOFFSETTO:-0500
TZNAME:EST
DTSTART:20231105T060000
END:STANDARD
END:VTIMEZONE
BEGIN:VEVENT
DTSTART;TZID=America/New_York:20221106T133000
DTEND;TZID=America/New_York:20221106T153000
DTSTAMP:20260422T182446
CREATED:20211210T211052Z
LAST-MODIFIED:20221012T172248Z
UID:1148-1667741400-1667748600@keephomesteadmuseum.org
SUMMARY:Raptors and Rehabilitation with Tom Ricardi
DESCRIPTION:Raptors from the Birds of Prey Rehabilitation Center \nThe Keep Homestead Museum welcomes Tom Ricardi of the Birds of Prey Rehabilitation Center in Conway on Sunday\, November 6 from 1:30–3:30 pm. \nHave you ever wondered what happens to the injured bird laying on the side of the road?  Well\, often Tom Ricardi is called. Mr. Ricardi cares for dozens of falcons\, owls\, eagles\, and other raptors that have been injured in some way. \nHe does a lot of work with local animal control and the Division of Fisheries and Wildlife and rescues an average of 125–150 birds a year. Birds that are rehabilitated\, recover and are able to fly are released back into the wild. Those that are permanently disabled remain at the Center for the rest of their lives. Some of these birds are part of his traveling educational programs. \nCome meet Tom Ricardi and find out more. \nThe museum will be open for viewing and admission is free\, however donations are always gratefully accepted.
URL:https://keephomesteadmuseum.org/event/raptors-and-rehabilitation-with-tom-ricardi/
END:VEVENT
BEGIN:VEVENT
DTSTART;TZID=America/New_York:20221106T153000
DTEND;TZID=America/New_York:20221106T160000
DTSTAMP:20260422T182446
CREATED:20220513T145646Z
LAST-MODIFIED:20221012T163432Z
UID:1221-1667748600-1667750400@keephomesteadmuseum.org
SUMMARY:Friends of the Keep Homestead Museum Meeting
DESCRIPTION:The house will be open from 1:30 – 3:30 p.m. for touring. Admission is free. Donations are accepted.
URL:https://keephomesteadmuseum.org/event/friends-of-the-keep-homestead-museum-meeting-nov22/
END:VEVENT
END:VCALENDAR