BEGIN:VCALENDAR
VERSION:2.0
PRODID:-//Keep Homestead Museum - ECPv6.15.20//NONSGML v1.0//EN
CALSCALE:GREGORIAN
METHOD:PUBLISH
X-WR-CALNAME:Keep Homestead Museum
X-ORIGINAL-URL:https://keephomesteadmuseum.org
X-WR-CALDESC:Events for Keep Homestead Museum
REFRESH-INTERVAL;VALUE=DURATION:PT1H
X-Robots-Tag:noindex
X-PUBLISHED-TTL:PT1H
BEGIN:VTIMEZONE
TZID:America/New_York
BEGIN:DAYLIGHT
TZOFFSETFROM:-0500
TZOFFSETTO:-0400
TZNAME:EDT
DTSTART:20200308T070000
END:DAYLIGHT
BEGIN:STANDARD
TZOFFSETFROM:-0400
TZOFFSETTO:-0500
TZNAME:EST
DTSTART:20201101T060000
END:STANDARD
BEGIN:DAYLIGHT
TZOFFSETFROM:-0500
TZOFFSETTO:-0400
TZNAME:EDT
DTSTART:20210314T070000
END:DAYLIGHT
BEGIN:STANDARD
TZOFFSETFROM:-0400
TZOFFSETTO:-0500
TZNAME:EST
DTSTART:20211107T060000
END:STANDARD
BEGIN:DAYLIGHT
TZOFFSETFROM:-0500
TZOFFSETTO:-0400
TZNAME:EDT
DTSTART:20220313T070000
END:DAYLIGHT
BEGIN:STANDARD
TZOFFSETFROM:-0400
TZOFFSETTO:-0500
TZNAME:EST
DTSTART:20221106T060000
END:STANDARD
BEGIN:DAYLIGHT
TZOFFSETFROM:-0500
TZOFFSETTO:-0400
TZNAME:EDT
DTSTART:20230312T070000
END:DAYLIGHT
BEGIN:STANDARD
TZOFFSETFROM:-0400
TZOFFSETTO:-0500
TZNAME:EST
DTSTART:20231105T060000
END:STANDARD
END:VTIMEZONE
BEGIN:VEVENT
DTSTART;TZID=America/New_York:20220501T133000
DTEND;TZID=America/New_York:20220501T143000
DTSTAMP:20260422T184319
CREATED:20220408T132522Z
LAST-MODIFIED:20220420T142556Z
UID:1196-1651411800-1651415400@keephomesteadmuseum.org
SUMMARY:Dairy Farming in Monson
DESCRIPTION:History\, stories\, and artifacts will be shared during an informal get-together with several members of the oldest dairy farm families in Monson.\nThe Keep Homestead Museum will present ”Dairy Farming in Monson“ on Sunday\, May 1\, 2022 at 1:30 p.m. in the barn. We will be visiting with some of the descendants of dairy farms past and present. At one time\, Monson had twenty-seven (27) farms related to the dairy business. Today there is only one farm that is still producing milk. \nIn addition to a descendant of one of Monson’s oldest dairy farms that is still producing milk\, descendants from other farms will relate the history of their farm as to how and when it was acquired\, size of herd\, milk routes\, etc. For those farms whose descendants cannot be present\, we will speak for them as their history was related to us. Additionally\, the Museum will have on display several items used in the early milk operation and delivery business. \nAt one time\, the Keep Homestead Museum property was a very prosperous dairy farm. Upon her death\, Myra Keep Lovell Moulton donated all this property to the Town of Monson. The Museum is located at 35 Ely Road in Monson\, Massachusetts. The house and gift shop will be open from 1:00 – 3:30 p.m. for touring. Admission is free. Donations are accepted.
URL:https://keephomesteadmuseum.org/event/dairy-farming-in-monson/
END:VEVENT
BEGIN:VEVENT
DTSTART;TZID=America/New_York:20220501T130000
DTEND;TZID=America/New_York:20220501T153000
DTSTAMP:20260422T184319
CREATED:20220315T172458Z
LAST-MODIFIED:20220408T132135Z
UID:1177-1651410000-1651419000@keephomesteadmuseum.org
SUMMARY:Open House
DESCRIPTION:Our Open Houses are the first Sunday of every month from 1:00–3:30 during the season. They are free and open to the public.
URL:https://keephomesteadmuseum.org/event/open-house/
LOCATION:Keep Homestead Museum\, 35 Ely Road\, Monson\, 01057\, United States
END:VEVENT
BEGIN:VEVENT
DTSTART;TZID=America/New_York:20220403T153000
DTEND;TZID=America/New_York:20220403T160000
DTSTAMP:20260422T184319
CREATED:20220316T145313Z
LAST-MODIFIED:20220316T145313Z
UID:1184-1648999800-1649001600@keephomesteadmuseum.org
SUMMARY:Friends of the Keep Homestead Museum Meeting
DESCRIPTION:
URL:https://keephomesteadmuseum.org/event/friends-of-the-keep-homestead-museum-meeting/
ORGANIZER;CN="Keep Homestead Museum":MAILTO:khm@keephomesteadmuseum.org
END:VEVENT
BEGIN:VEVENT
DTSTART;TZID=America/New_York:20220403T133000
DTEND;TZID=America/New_York:20220403T143000
DTSTAMP:20260422T184319
CREATED:20211210T193000Z
LAST-MODIFIED:20220315T171711Z
UID:1136-1648992600-1648996200@keephomesteadmuseum.org
SUMMARY:Life Aboard a Whaling Ship with Anne Barrett
DESCRIPTION:Keep Museum Open Houses are the first Sunday of every month during the season from 1 – 3:30 pm and are open to the public free of  charge. \nOur first Open House kicks off with the “Life Aboard a Whaling Ship” performance featuring Anne Barrett with the story of Mary Lawrence\, a whaling wife who sailed aboard the Addison. \nAnne is an actress\, historian\, re-enactor and performer specializing in portraying women in history. In this performance as Mary Lawrence\, she will bring forth the joys and tribulations of life at sea for three and a half years with her husband Captain Samuel Lawrence and their daughter Minnie.  \nStay tuned for additional information.
URL:https://keephomesteadmuseum.org/event/life-aboard-a-whaling-ship-with-anne-barrett/
LOCATION:Keep Homestead Museum\, 35 Ely Road\, Monson\, 01057\, United States
END:VEVENT
BEGIN:VEVENT
DTSTART;TZID=America/New_York:20211205T130000
DTEND;TZID=America/New_York:20211205T150000
DTSTAMP:20260422T184319
CREATED:20211020T172310Z
LAST-MODIFIED:20211021T220535Z
UID:1112-1638709200-1638716400@keephomesteadmuseum.org
SUMMARY:December Keep Museum Holiday Sing-Along
DESCRIPTION:The public is invited to tour the Keep Homestead Museum at 35 Ely Road in Monson from 1:00–3:00 pm on Sunday\, December 5 to enjoy special button exhibits and a Holiday Sing-along led by Gay Paluch\, pianist\, and Joe Wholley\, flutist. Join voices to celebrate the holiday season and learn about the history of carols and seasonal songs. Discover the beauty of buttons hailing from around the world. \nAn exhibit entitled “Christmas Buttons” features several special collections of Myra Keep’s heirloom buttons. Superimposed on a music staff are black glass buttons\, each one representing a note in the carol “Hark the Herald Angels Sing.” Among the Bethlehem Mother of Pearl hand-carved shell buttons are an angel with spread wings\, Madonna and child\, and a delicate carving of Mary and Joseph en route to Bethlehem. Buttons in all shades of red and green and symbols of Christmas\, including candles\, holly\, poinsettia\, and wreaths\, will delight those who explore the historic collection at the museum. \nThis festive afternoon at the Keep Homestead Museum is free of charge. Light refreshments will be served.
URL:https://keephomesteadmuseum.org/event/keep-museum-holiday-sing-along/
LOCATION:Keep Homestead Museum\, 35 Ely Road\, Monson\, 01057\, United States
ORGANIZER;CN="Keep Homestead Museum":MAILTO:khm@keephomesteadmuseum.org
END:VEVENT
BEGIN:VEVENT
DTSTART;TZID=America/New_York:20211107T130000
DTEND;TZID=America/New_York:20211107T150000
DTSTAMP:20260422T184319
CREATED:20211020T172754Z
LAST-MODIFIED:20211021T220619Z
UID:1114-1636290000-1636297200@keephomesteadmuseum.org
SUMMARY:November Keep Museum Reopening & Open House
DESCRIPTION:We will celebrate our reopening with an open house on Sunday\, November 7 from 1–3:00 pm. A new exhibit of  Belle Epoque buttons is displayed with copies of original pen and ink drawings executed by Monson art teacher and button collector W. Louise Larson. \nVery often the designs resemble work from the Art Nouveau Era (1890–1910) when interest in Egyptian design was inspired by the discovery of King Tut’s tomb. \nOther new exhibits are glass buttons of various colors\, designs and ages plus a display of Christmas-themed buttons. \nWe look forward to welcoming you once again to the museum!
URL:https://keephomesteadmuseum.org/event/keep-museum-open-house/
LOCATION:Keep Homestead Museum\, 35 Ely Road\, Monson\, 01057\, United States
ORGANIZER;CN="Keep Homestead Museum":MAILTO:khm@keephomesteadmuseum.org
END:VEVENT
BEGIN:VEVENT
DTSTART;TZID=America/New_York:20211003T133000
DTEND;TZID=America/New_York:20211003T143000
DTSTAMP:20260422T184319
CREATED:20210907T172753Z
LAST-MODIFIED:20210907T174404Z
UID:1099-1633267800-1633271400@keephomesteadmuseum.org
SUMMARY:Zoo on the Go
DESCRIPTION:Forest Park’s “Zoo on the Go” program is coming to the Keep Homestead Museum in Monson on Sunday\, October 3\, at 1:30 pm. \nIt is a FREE educational outreach program that will bring seven ambassador animals to the museum. Information will be provided on the animals’ special adaptions\, habitats\, behavior\, diets\, and status in the wild. A question and answer period will follow the presentation. \nThe program will be held on the lawn\, weather permitting. Bring a blanket or chair for viewing. If there is inclement weather\, it will take place in the barn. \nWater will be available. Admission is free\, but donations are welcome. Hope to see you there!
URL:https://keephomesteadmuseum.org/event/zoo-on-the-go/
LOCATION:Keep Homestead Museum\, 35 Ely Road\, Monson\, 01057\, United States
END:VEVENT
BEGIN:VEVENT
DTSTART;TZID=America/New_York:20210801T133000
DTEND;TZID=America/New_York:20210801T153000
DTSTAMP:20260422T184319
CREATED:20210524T191511Z
LAST-MODIFIED:20210628T154110Z
UID:1053-1627824600-1627831800@keephomesteadmuseum.org
SUMMARY:Concert on the lawn featuring Livestock
DESCRIPTION:Livestock is a group who use traditional bluegrass instrumentation to interpret a somewhat wider musical collection\, reaching out into blues\, folk\, country\, and rock ‘n roll for their confirmed label of Bluegrass & Americana. The members often play in a number of other formats\, as well as share the singing responsibilities. They use old-school ambient miking on stage\, rather than mounted pickups\, for a particularly natural wooden-instrument sound\, to seem similar to their favorite settings\, which are kitchens\, barns\, and porches. Their casual approach to a show makes them favorites in social settings like pubs\, town commons\, and the burgeoning music/microbrewery scene. \nMembers of the band include:\n\nJim Lamothe\, Brimfield—Guitar player with Livestock and also local country favorites Radio Ranch.\nDave Richardson\, Warren—Mandolin player and home improvement contractor\, often collaborating with the bass player\,\nChet Fairchild\, Holland—Chet also plays bass for the progressive jazz string band Rhythm Junction and the Sturbridge hippie jam band Burnpile\, where Dave Richardson also takes up his drumsticks.\nJohn Cloutier—Resonator guitar player for Livestock. John spends his working days as a commercial artist at his Southbridge-based sign and screen printing shop\, Globe Sign Co.\n\nThe band has the benefit of two excellent fiddlers\, Remi Lamothe of the Jim Lamothe household\, who is a student at Tufts University\, and Rob Griffin of Belchertown\, who works in educational publishing from the Amherst area. Both are solid improvisational fiddlers with strong early styles\, and can really raise the roof on the occasional night when the band can wrangle them both for a show. \nThe concert will be held rain or shine as it can move into the barn. Bring a lawn chair or blanket—and a picnic lunch. Guests are asked to observe social distancing. There is no admission charge\, but donations will be accepted. Refreshments will be served. \nThe audience will be surrounded by the Alan Robert Phillips Sculpture Garden. For more information\, call 413-267-4137 or fill out our contact form.
URL:https://keephomesteadmuseum.org/event/concert-on-the-lawn-featuring-livestock/
LOCATION:Keep Homestead Museum\, 35 Ely Road\, Monson\, 01057\, United States
ORGANIZER;CN="Keep Homestead Museum":MAILTO:khm@keephomesteadmuseum.org
END:VEVENT
BEGIN:VEVENT
DTSTART;VALUE=DATE:20210704
DTEND;VALUE=DATE:20210705
DTSTAMP:20260422T184319
CREATED:20200622T163524Z
LAST-MODIFIED:20200622T163524Z
UID:953-1625356800-1625443199@keephomesteadmuseum.org
SUMMARY:Museum closed on July Fourth
DESCRIPTION:
URL:https://keephomesteadmuseum.org/event/museum-closed-on-july-fourth/
END:VEVENT
BEGIN:VEVENT
DTSTART;VALUE=DATE:20210404
DTEND;VALUE=DATE:20210405
DTSTAMP:20260422T184319
CREATED:20200622T163237Z
LAST-MODIFIED:20210302T223444Z
UID:950-1617494400-1617580799@keephomesteadmuseum.org
SUMMARY:There are no events until further notice.
DESCRIPTION:
URL:https://keephomesteadmuseum.org/event/museum-closed-for-easter/
END:VEVENT
END:VCALENDAR