BEGIN:VCALENDAR
VERSION:2.0
PRODID:-//Keep Homestead Museum - ECPv6.15.20//NONSGML v1.0//EN
CALSCALE:GREGORIAN
METHOD:PUBLISH
X-WR-CALNAME:Keep Homestead Museum
X-ORIGINAL-URL:https://keephomesteadmuseum.org
X-WR-CALDESC:Events for Keep Homestead Museum
REFRESH-INTERVAL;VALUE=DURATION:PT1H
X-Robots-Tag:noindex
X-PUBLISHED-TTL:PT1H
BEGIN:VTIMEZONE
TZID:America/New_York
BEGIN:DAYLIGHT
TZOFFSETFROM:-0500
TZOFFSETTO:-0400
TZNAME:EDT
DTSTART:20210314T070000
END:DAYLIGHT
BEGIN:STANDARD
TZOFFSETFROM:-0400
TZOFFSETTO:-0500
TZNAME:EST
DTSTART:20211107T060000
END:STANDARD
BEGIN:DAYLIGHT
TZOFFSETFROM:-0500
TZOFFSETTO:-0400
TZNAME:EDT
DTSTART:20220313T070000
END:DAYLIGHT
BEGIN:STANDARD
TZOFFSETFROM:-0400
TZOFFSETTO:-0500
TZNAME:EST
DTSTART:20221106T060000
END:STANDARD
BEGIN:DAYLIGHT
TZOFFSETFROM:-0500
TZOFFSETTO:-0400
TZNAME:EDT
DTSTART:20230312T070000
END:DAYLIGHT
BEGIN:STANDARD
TZOFFSETFROM:-0400
TZOFFSETTO:-0500
TZNAME:EST
DTSTART:20231105T060000
END:STANDARD
END:VTIMEZONE
BEGIN:VEVENT
DTSTART;TZID=America/New_York:20220904T130000
DTEND;TZID=America/New_York:20220904T153000
DTSTAMP:20260422T105659
CREATED:20220817T154522Z
LAST-MODIFIED:20220817T154522Z
UID:1252-1662296400-1662305400@keephomesteadmuseum.org
SUMMARY:Button Appraisal Day at the Keep
DESCRIPTION:Do you have your grandmother’s button box? Would you like to learn some of the stories about the buttons? Or do you have a favorite button that you would like to know more about? Does it have some monetary value? A button appraisal might give you some answers. \nThe Button Appraisal Day will be held on Sunday\, September 4 at the Keep Homestead Museum on 35 Ely Road in Monson from 1–3:30 pm. Button experts and dealers Moira Hatton and Betty Korostynski are both well-versed in the identification and current pricing of buttons. \nThere is no cost for the appraisals\, however donations will be accepted. Visitors are welcome to tour the museum.
URL:https://keephomesteadmuseum.org/event/button-appraisal-day-at-the-keep/
LOCATION:Keep Homestead Museum\, 35 Ely Road\, Monson\, 01057\, United States
ORGANIZER;CN="Keep Homestead Museum":MAILTO:khm@keephomesteadmuseum.org
END:VEVENT
END:VCALENDAR