BEGIN:VCALENDAR
VERSION:2.0
PRODID:-//Keep Homestead Museum - ECPv6.15.20//NONSGML v1.0//EN
CALSCALE:GREGORIAN
METHOD:PUBLISH
X-WR-CALNAME:Keep Homestead Museum
X-ORIGINAL-URL:https://keephomesteadmuseum.org
X-WR-CALDESC:Events for Keep Homestead Museum
REFRESH-INTERVAL;VALUE=DURATION:PT1H
X-Robots-Tag:noindex
X-PUBLISHED-TTL:PT1H
BEGIN:VTIMEZONE
TZID:America/New_York
BEGIN:DAYLIGHT
TZOFFSETFROM:-0500
TZOFFSETTO:-0400
TZNAME:EDT
DTSTART:20250309T070000
END:DAYLIGHT
BEGIN:STANDARD
TZOFFSETFROM:-0400
TZOFFSETTO:-0500
TZNAME:EST
DTSTART:20251102T060000
END:STANDARD
BEGIN:DAYLIGHT
TZOFFSETFROM:-0500
TZOFFSETTO:-0400
TZNAME:EDT
DTSTART:20260308T070000
END:DAYLIGHT
BEGIN:STANDARD
TZOFFSETFROM:-0400
TZOFFSETTO:-0500
TZNAME:EST
DTSTART:20261101T060000
END:STANDARD
BEGIN:DAYLIGHT
TZOFFSETFROM:-0500
TZOFFSETTO:-0400
TZNAME:EDT
DTSTART:20270314T070000
END:DAYLIGHT
BEGIN:STANDARD
TZOFFSETFROM:-0400
TZOFFSETTO:-0500
TZNAME:EST
DTSTART:20271107T060000
END:STANDARD
END:VTIMEZONE
BEGIN:VEVENT
DTSTART;TZID=America/New_York:20260607T130000
DTEND;TZID=America/New_York:20260607T153000
DTSTAMP:20260421T162041
CREATED:20260413T210445Z
LAST-MODIFIED:20260413T210445Z
UID:1833-1780837200-1780846200@keephomesteadmuseum.org
SUMMARY:Museum Open House
DESCRIPTION:Our Open Houses are the first Sunday of every month from 1:00–3:30 during the season. They are free and open to the public.
URL:https://keephomesteadmuseum.org/event/museum-open-house-june-2026/
LOCATION:Keep Homestead Museum\, 35 Ely Road\, Monson\, 01057\, United States
END:VEVENT
BEGIN:VEVENT
DTSTART;TZID=America/New_York:20260607T133000
DTEND;TZID=America/New_York:20260607T143000
DTSTAMP:20260421T162041
CREATED:20260413T205859Z
LAST-MODIFIED:20260413T205859Z
UID:1819-1780839000-1780842600@keephomesteadmuseum.org
SUMMARY:Music Through the Decades with David Polansky
DESCRIPTION:Check back soon for additional information and be sure to Follow us on Facebook for event reminders!
URL:https://keephomesteadmuseum.org/event/music-through-the-decades/
LOCATION:Keep Homestead Museum\, 35 Ely Road\, Monson\, 01057\, United States
END:VEVENT
END:VCALENDAR